BEGIN:VCALENDAR
VERSION:2.0
PRODID:-// - ECPv6.15.20//NONSGML v1.0//EN
CALSCALE:GREGORIAN
METHOD:PUBLISH
X-ORIGINAL-URL:https://ueberherrn.de
X-WR-CALDESC:Veranstaltungen für 
REFRESH-INTERVAL;VALUE=DURATION:PT1H
X-Robots-Tag:noindex
X-PUBLISHED-TTL:PT1H
BEGIN:VTIMEZONE
TZID:Europe/Berlin
BEGIN:DAYLIGHT
TZOFFSETFROM:+0100
TZOFFSETTO:+0200
TZNAME:CEST
DTSTART:20250330T010000
END:DAYLIGHT
BEGIN:STANDARD
TZOFFSETFROM:+0200
TZOFFSETTO:+0100
TZNAME:CET
DTSTART:20251026T010000
END:STANDARD
BEGIN:DAYLIGHT
TZOFFSETFROM:+0100
TZOFFSETTO:+0200
TZNAME:CEST
DTSTART:20260329T010000
END:DAYLIGHT
BEGIN:STANDARD
TZOFFSETFROM:+0200
TZOFFSETTO:+0100
TZNAME:CET
DTSTART:20261025T010000
END:STANDARD
BEGIN:DAYLIGHT
TZOFFSETFROM:+0100
TZOFFSETTO:+0200
TZNAME:CEST
DTSTART:20270328T010000
END:DAYLIGHT
BEGIN:STANDARD
TZOFFSETFROM:+0200
TZOFFSETTO:+0100
TZNAME:CET
DTSTART:20271031T010000
END:STANDARD
END:VTIMEZONE
BEGIN:VEVENT
DTSTART;TZID=Europe/Berlin:20260308T110000
DTEND;TZID=Europe/Berlin:20260308T123000
DTSTAMP:20260423T122906
CREATED:20250605T091159Z
LAST-MODIFIED:20251212T095108Z
UID:19046-1772967600-1772973000@ueberherrn.de
SUMMARY:Öffentliche Führung in der Sendehalle "Europe 1"
DESCRIPTION:Wir freuen uns\, die Sendehalle für öffentliche Führungen wieder zu öffnen.\n\nTermine: sonntags\, 11 Uhr\n08.03.26 | 12.04.26 | 10.05.26 | 14.06.26\nPreis: € 10\,- pP\n\n\nAnmeldung im Kulturamt der Gemeinde\nTelefon: 06836 909122/-121/139\nper Email: kultur@ueberherrn.de
URL:https://ueberherrn.de/event/oeffentliche-fuehrung-in-der-sendehalle-europe-1-5/
LOCATION:Sendehalle „Europe 1“\, Ittersdorfer Straße\, Berus\, Saarland\, 66802\, Deutschland
ORGANIZER;CN="Kulturamt %C3%9Cberherrn":MAILTO:kultur@ueberherrn.de
END:VEVENT
BEGIN:VEVENT
DTSTART;TZID=Europe/Berlin:20260314T160000
DTEND;TZID=Europe/Berlin:20260314T200000
DTSTAMP:20260423T122906
CREATED:20260306T121756Z
LAST-MODIFIED:20260306T121756Z
UID:20492-1773504000-1773518400@ueberherrn.de
SUMMARY:Kunstausstellung im Beruser Schloss
DESCRIPTION:Im alten Beruser Schloss werden Gemälde und Zeichnungen von Joachim Vitus Dier gezeigt. Mit Unterstützung des Beruser Ortsvorstehers\, Herrn Johannes Willmes wird es insgesamt vier Präsentationen geben\, die im Laufe des Jahres 2026\, in bestimmten Abständen gezeigt werden. Angefangen wird mit vornehmlich aktuellen Werken aus der näheren Umgebung\, auch Einige über die Landesgrenze zu Frankreich hinaus. Die erste Ausstellung ist Diers Heimat gewidmet. Die bildnerischen Darstellungen zeigen Kreidezeichnungen und großformatige Gemälde\, die auf Leinwand gemalt wurden. \n \n1. Ausstellung: „Bilder und Zeichnungen aus der Umgebung“ Sa. 14./15. u. Sa. 21./22. März 2026 \nVernissage am Sa 14. März 2026 um 16:00 Uhr \n  \n2. Ausstellung: „Intuition/Exhibition“ Fr. 05./06./07. u. Sa. 13./14. Juni 2026 \n  \n3. Ausstellung: „Visuell/Abstrakt“ Sa. 12./13. u. Sa. 19./20. Sept. 2026 \n  \n4. Ausstellung: „Experimentell/Visitiv Sa. 05./06. u. Sa. 12./13. Dez. 2026 \nFür den Überherrner Künstler Joachim Vitus Dier gibt es keinen schöpferischen Ruhestand und gerade deshalb gibt es für ihn kein resignierendes Altwerden. Er ist immer noch ein fleißiger Maler\, was zahlenmäßig belegbar ist. Die Identifikation seines persönlichen Malstils ist die Auseinandersetzung und Sensibilisierung des Objekts. Prägend für seine Bilder ist die Festlegung eines Bildausschnittes\, wodurch Wesentliches assoziiert\, Unwesentliches außer acht gelassen wird.
URL:https://ueberherrn.de/event/kunstausstellung-im-beruser-schloss/
LOCATION:Torhaus Schloss in Berus\, Burgspritze 1\, Überherrn\, 66802
END:VEVENT
BEGIN:VEVENT
DTSTART;TZID=Europe/Berlin:20260319T160000
DTEND;TZID=Europe/Berlin:20260319T200000
DTSTAMP:20260423T122906
CREATED:20260306T122043Z
LAST-MODIFIED:20260306T122043Z
UID:20495-1773936000-1773950400@ueberherrn.de
SUMMARY:Blutspenden in Überherrn
DESCRIPTION:
URL:https://ueberherrn.de/event/blutspenden-in-ueberherrn/
LOCATION:Kulturhaus Überherrn\, Am Kulturhaus\, Überherrn\, 66802
END:VEVENT
BEGIN:VEVENT
DTSTART;TZID=Europe/Berlin:20260322T170000
DTEND;TZID=Europe/Berlin:20260322T170000
DTSTAMP:20260423T122906
CREATED:20260121T091957Z
LAST-MODIFIED:20260306T120255Z
UID:20168-1774198800-1774198800@ueberherrn.de
SUMMARY:JAZZ à la Française – Ein Gala-Abend voller Eleganz und Klangfarben
DESCRIPTION:Am 22. März 2026 um 17 Uhr\, im Kulturhaus Überherrn (Am Kulturhaus 2 in 66802 Überherrn) \nEinlass ab 16:30 Uhr \n  \nDas Kulturhaus lädt am 22. März um 17 Uhr zu einem ganz besonderen Konzertabend ein: JAZZ à la Française verspricht eine stilvolle Gala voller musikalischer Raffinesse und französischer Klangkultur. In der klassischen Trio-Besetzung mit Piano\, Bass und Schlagzeug entfaltet das Ensemble eine außergewöhnliche Form moderner Kammermusik – elegant\, fein nuanciert und zugleich voller Spielfreude. \nHemmi Donié (Piano)\, Thomas Thiel (Bass) und Rolf Seel (Schlagzeug) widmen der jazzorientierten Improvisation bewusst viel Raum. So entsteht ein facettenreiches Klangbild\, das sowohl ausgewiesene Jazzliebhaber als auch Gäste mit eher klassisch geprägten Hörgewohnheiten begeistert. Der anhaltende Erfolg des Ensembles zeigt eindrucksvoll\, wie überzeugend diese musikalische Brücke zwischen Tradition und Moderne gelingt. \nAls aktueller Special Guest bereichert der Saxophonist und Flötist Thomas Girard das Trio. Mit seinem charakteristischen Ton erweitert er die Klangpalette und verleiht dem Programm zusätzliche Farbigkeit. \nZu hören sind eigens arrangierte Bearbeitungen klassischer Themen – von Johann Sebastian Bach bis hin zu zeitgenössischen Kompositionen unterschiedlichster Stilrichtungen. Die Arrangements verbinden Swing\, Latin\, Funk\, Klassik und experimentelle Elemente zu einem abwechslungsreichen und atmosphärisch dichten Hörerlebnis. \nNeben der Musik erwartet das Publikum ein chic-elegantes Ambiente: Der Saal ist in Tischbestuhlung mit festen Sitzplätzen gestaltet\, die Platzierung erfolgt an großen Tischen für jeweils bis zu sechs Personen und unterstreicht den besonderen Gala-Charakter des Abends. Die Sitzplätze können im Vorfeld bei der Ticketbuchung selbstverständlich eigenständig ausgewählt werden. Im Eintrittspreis von 25 Euro sind Fingerfood sowie Wasser bzw. Sprudel am Tisch bereits enthalten. \n  \nTickets sind erhältlich unter www.ticket-regional.de\, an allen Vorverkaufsstellen von Ticket-Regional sowie im Rathaus Überherrn. \n  \n 
URL:https://ueberherrn.de/event/jazz-a-la-francaise/
LOCATION:Kulturhaus Überherrn\, Am Kulturhaus\, Überherrn\, 66802
ORGANIZER;CN="Kulturamt %C3%9Cberherrn":MAILTO:kultur@ueberherrn.de
END:VEVENT
END:VCALENDAR