BEGIN:VCALENDAR
VERSION:2.0
PRODID:-// - ECPv6.15.20//NONSGML v1.0//EN
CALSCALE:GREGORIAN
METHOD:PUBLISH
X-ORIGINAL-URL:https://ueberherrn.de
X-WR-CALDESC:Veranstaltungen für 
REFRESH-INTERVAL;VALUE=DURATION:PT1H
X-Robots-Tag:noindex
X-PUBLISHED-TTL:PT1H
BEGIN:VTIMEZONE
TZID:Europe/Berlin
BEGIN:DAYLIGHT
TZOFFSETFROM:+0100
TZOFFSETTO:+0200
TZNAME:CEST
DTSTART:20190331T010000
END:DAYLIGHT
BEGIN:STANDARD
TZOFFSETFROM:+0200
TZOFFSETTO:+0100
TZNAME:CET
DTSTART:20191027T010000
END:STANDARD
BEGIN:DAYLIGHT
TZOFFSETFROM:+0100
TZOFFSETTO:+0200
TZNAME:CEST
DTSTART:20200329T010000
END:DAYLIGHT
BEGIN:STANDARD
TZOFFSETFROM:+0200
TZOFFSETTO:+0100
TZNAME:CET
DTSTART:20201025T010000
END:STANDARD
BEGIN:DAYLIGHT
TZOFFSETFROM:+0100
TZOFFSETTO:+0200
TZNAME:CEST
DTSTART:20210328T010000
END:DAYLIGHT
BEGIN:STANDARD
TZOFFSETFROM:+0200
TZOFFSETTO:+0100
TZNAME:CET
DTSTART:20211031T010000
END:STANDARD
END:VTIMEZONE
BEGIN:VEVENT
DTSTART;TZID=Europe/Berlin:20200501T100000
DTEND;TZID=Europe/Berlin:20200501T100000
DTSTAMP:20260422T105115
CREATED:20200210T110929Z
LAST-MODIFIED:20220908T121308Z
UID:5290-1588327200-1588327200@ueberherrn.de
SUMMARY:Einweihung - Kommandowagen des Wehrführers der FFW Überherrn
DESCRIPTION:
URL:https://ueberherrn.de/event/einweihung-kommandowagen-des-wehrfuehrers-der-ffw-ueberherrn/
LOCATION:Dorfzentrum Felsberg\, Metzer Straße 71\, Überherrn\, 66802
END:VEVENT
BEGIN:VEVENT
DTSTART;TZID=Europe/Berlin:20200501T100000
DTEND;TZID=Europe/Berlin:20200501T180000
DTSTAMP:20260422T105115
CREATED:20191118T101733Z
LAST-MODIFIED:20200203T085138Z
UID:4892-1588327200-1588356000@ueberherrn.de
SUMMARY:26. Bauern- und Kunsthandwerkermarkt 2020
DESCRIPTION:Anmeldeformular
URL:https://ueberherrn.de/event/26-bauern-und-kunsthandwerkermarkt-2020/
LOCATION:Marktplatz Überherrn\, Am Alten Bahnhof\, Überherrn\, 66802
END:VEVENT
BEGIN:VEVENT
DTSTART;TZID=Europe/Berlin:20200510T100000
DTEND;TZID=Europe/Berlin:20200510T160000
DTSTAMP:20260422T105115
CREATED:20200113T103303Z
LAST-MODIFIED:20200113T103303Z
UID:5175-1589104800-1589126400@ueberherrn.de
SUMMARY:Mädelsflohmarkt
DESCRIPTION:
URL:https://ueberherrn.de/event/maedelsflohmarkt/
LOCATION:Kulturhaus Überherrn\, Am Kulturhaus\, Überherrn\, 66802
END:VEVENT
BEGIN:VEVENT
DTSTART;VALUE=DATE:20200516
DTEND;VALUE=DATE:20200517
DTSTAMP:20260422T105115
CREATED:20200210T111209Z
LAST-MODIFIED:20200210T111209Z
UID:5292-1589587200-1589673599@ueberherrn.de
SUMMARY:Kindergartenfest
DESCRIPTION:
URL:https://ueberherrn.de/event/kindergartenfest/
LOCATION:Sportplatz Felsberg\, Metzer Straße\, Überherrn\, 66802
END:VEVENT
BEGIN:VEVENT
DTSTART;TZID=Europe/Berlin:20200516T100000
DTEND;TZID=Europe/Berlin:20200516T170000
DTSTAMP:20260422T105115
CREATED:20190709T102406Z
LAST-MODIFIED:20190709T102627Z
UID:4500-1589623200-1589648400@ueberherrn.de
SUMMARY:Tischtennis-Hobbyturnier TTC-Berus
DESCRIPTION:
URL:https://ueberherrn.de/event/tischtennis-hobbyturnier-ttc-berus/
LOCATION:Turnhalle der ehemaligen Grundschule Altforweiler\, Überrherrn-Altforweiler\, Saarland\, 66802
END:VEVENT
BEGIN:VEVENT
DTSTART;TZID=Europe/Berlin:20200517T170000
DTEND;TZID=Europe/Berlin:20200517T170000
DTSTAMP:20260422T105115
CREATED:20191122T100100Z
LAST-MODIFIED:20220908T120843Z
UID:5008-1589734800-1589734800@ueberherrn.de
SUMMARY:Frühjahrskonzert Mandolinenorchester Altforweiler
DESCRIPTION:
URL:https://ueberherrn.de/event/fruehjahrskonzert-mandolinenorchester-altforweiler/
LOCATION:Saal Reichshof Altforweiler\, Felsberger Straße 5\, Überherrn\, 66802
END:VEVENT
BEGIN:VEVENT
DTSTART;VALUE=DATE:20200521
DTEND;VALUE=DATE:20200522
DTSTAMP:20260422T105115
CREATED:20200210T111649Z
LAST-MODIFIED:20200210T111649Z
UID:5297-1590019200-1590105599@ueberherrn.de
SUMMARY:Ein Dorf spielt Fußball
DESCRIPTION:
URL:https://ueberherrn.de/event/ein-dorf-spielt-fussball-2/
LOCATION:Sportplatz Felsberg\, Metzer Straße\, Überherrn\, 66802
END:VEVENT
END:VCALENDAR