BEGIN:VCALENDAR
VERSION:2.0
PRODID:-// - ECPv6.15.20//NONSGML v1.0//EN
CALSCALE:GREGORIAN
METHOD:PUBLISH
X-ORIGINAL-URL:https://ueberherrn.de
X-WR-CALDESC:Veranstaltungen für 
REFRESH-INTERVAL;VALUE=DURATION:PT1H
X-Robots-Tag:noindex
X-PUBLISHED-TTL:PT1H
BEGIN:VTIMEZONE
TZID:Europe/Berlin
BEGIN:DAYLIGHT
TZOFFSETFROM:+0100
TZOFFSETTO:+0200
TZNAME:CEST
DTSTART:20250330T010000
END:DAYLIGHT
BEGIN:STANDARD
TZOFFSETFROM:+0200
TZOFFSETTO:+0100
TZNAME:CET
DTSTART:20251026T010000
END:STANDARD
BEGIN:DAYLIGHT
TZOFFSETFROM:+0100
TZOFFSETTO:+0200
TZNAME:CEST
DTSTART:20260329T010000
END:DAYLIGHT
BEGIN:STANDARD
TZOFFSETFROM:+0200
TZOFFSETTO:+0100
TZNAME:CET
DTSTART:20261025T010000
END:STANDARD
BEGIN:DAYLIGHT
TZOFFSETFROM:+0100
TZOFFSETTO:+0200
TZNAME:CEST
DTSTART:20270328T010000
END:DAYLIGHT
BEGIN:STANDARD
TZOFFSETFROM:+0200
TZOFFSETTO:+0100
TZNAME:CET
DTSTART:20271031T010000
END:STANDARD
END:VTIMEZONE
BEGIN:VEVENT
DTSTART;TZID=Europe/Berlin:20260314T160000
DTEND;TZID=Europe/Berlin:20260314T200000
DTSTAMP:20260425T122139
CREATED:20260306T121756Z
LAST-MODIFIED:20260306T121756Z
UID:20492-1773504000-1773518400@ueberherrn.de
SUMMARY:Kunstausstellung im Beruser Schloss
DESCRIPTION:Im alten Beruser Schloss werden Gemälde und Zeichnungen von Joachim Vitus Dier gezeigt. Mit Unterstützung des Beruser Ortsvorstehers\, Herrn Johannes Willmes wird es insgesamt vier Präsentationen geben\, die im Laufe des Jahres 2026\, in bestimmten Abständen gezeigt werden. Angefangen wird mit vornehmlich aktuellen Werken aus der näheren Umgebung\, auch Einige über die Landesgrenze zu Frankreich hinaus. Die erste Ausstellung ist Diers Heimat gewidmet. Die bildnerischen Darstellungen zeigen Kreidezeichnungen und großformatige Gemälde\, die auf Leinwand gemalt wurden. \n \n1. Ausstellung: „Bilder und Zeichnungen aus der Umgebung“ Sa. 14./15. u. Sa. 21./22. März 2026 \nVernissage am Sa 14. März 2026 um 16:00 Uhr \n  \n2. Ausstellung: „Intuition/Exhibition“ Fr. 05./06./07. u. Sa. 13./14. Juni 2026 \n  \n3. Ausstellung: „Visuell/Abstrakt“ Sa. 12./13. u. Sa. 19./20. Sept. 2026 \n  \n4. Ausstellung: „Experimentell/Visitiv Sa. 05./06. u. Sa. 12./13. Dez. 2026 \nFür den Überherrner Künstler Joachim Vitus Dier gibt es keinen schöpferischen Ruhestand und gerade deshalb gibt es für ihn kein resignierendes Altwerden. Er ist immer noch ein fleißiger Maler\, was zahlenmäßig belegbar ist. Die Identifikation seines persönlichen Malstils ist die Auseinandersetzung und Sensibilisierung des Objekts. Prägend für seine Bilder ist die Festlegung eines Bildausschnittes\, wodurch Wesentliches assoziiert\, Unwesentliches außer acht gelassen wird.
URL:https://ueberherrn.de/event/kunstausstellung-im-beruser-schloss/
LOCATION:Torhaus Schloss in Berus\, Burgspritze 1\, Überherrn\, 66802
END:VEVENT
END:VCALENDAR