BEGIN:VCALENDAR
VERSION:2.0
PRODID:-// - ECPv6.15.20//NONSGML v1.0//EN
CALSCALE:GREGORIAN
METHOD:PUBLISH
X-ORIGINAL-URL:https://ueberherrn.de
X-WR-CALDESC:Veranstaltungen für 
REFRESH-INTERVAL;VALUE=DURATION:PT1H
X-Robots-Tag:noindex
X-PUBLISHED-TTL:PT1H
BEGIN:VTIMEZONE
TZID:Europe/Berlin
BEGIN:DAYLIGHT
TZOFFSETFROM:+0100
TZOFFSETTO:+0200
TZNAME:CEST
DTSTART:20250330T010000
END:DAYLIGHT
BEGIN:STANDARD
TZOFFSETFROM:+0200
TZOFFSETTO:+0100
TZNAME:CET
DTSTART:20251026T010000
END:STANDARD
BEGIN:DAYLIGHT
TZOFFSETFROM:+0100
TZOFFSETTO:+0200
TZNAME:CEST
DTSTART:20260329T010000
END:DAYLIGHT
BEGIN:STANDARD
TZOFFSETFROM:+0200
TZOFFSETTO:+0100
TZNAME:CET
DTSTART:20261025T010000
END:STANDARD
BEGIN:DAYLIGHT
TZOFFSETFROM:+0100
TZOFFSETTO:+0200
TZNAME:CEST
DTSTART:20270328T010000
END:DAYLIGHT
BEGIN:STANDARD
TZOFFSETFROM:+0200
TZOFFSETTO:+0100
TZNAME:CET
DTSTART:20271031T010000
END:STANDARD
END:VTIMEZONE
BEGIN:VEVENT
DTSTART;TZID=Europe/Berlin:20260212T171100
DTEND;TZID=Europe/Berlin:20260212T171100
DTSTAMP:20260423T172222
CREATED:20260202T144720Z
LAST-MODIFIED:20260202T150742Z
UID:20288-1770916260-1770916260@ueberherrn.de
SUMMARY:Rathaussturm 2026 - Kommt herein in den Akten... ähm Zauberwald
DESCRIPTION:Ordner werden zu Baumstämmen\, Paragraphen ranken sich wie Lianen und Formulare rascheln wie Laub im Wind – denn die Verwaltung übergibt (wenn auch nur vorübergehend) das Zepter an die närrische Übermacht. \nNeu in diesem Jahr: Eine Fotobox mit Fotowettbewerb sorgt für magisch-närrische Erinnerungen. Ob kreatives Zauberwald-Kostüm\, verirrter Bürozwerg oder mutiger Aktenwald-Entdecker – Mitmachen lohnt sich\, denn unter allen Teilnehmenden werden drei attraktive Gewinne verlost. \nFür das leibliche Wohl ist bestens gesorgt: \nMit Speisen\, Getränken und Cocktails ist für einen genussvollen\, närrischen Abend im Zauberwald gesorgt. \nWir freuen uns auf zahlreiche Besucherinnen und Besucher\, die mit uns lachen\, feiern und zeigen\, dass das Rathaus der närrischen Übermacht nichts entgegenzusetzen hat.
URL:https://ueberherrn.de/event/rathaussturm-2026-kommt-herein-in-den-akten-aehm-zauberwald/
LOCATION:Rathaus Überherrn\, Rathausstr. 101\, Überherrn\, 66802
END:VEVENT
END:VCALENDAR