BEGIN:VCALENDAR
VERSION:2.0
PRODID:-// - ECPv6.15.20//NONSGML v1.0//EN
CALSCALE:GREGORIAN
METHOD:PUBLISH
X-ORIGINAL-URL:https://ueberherrn.de
X-WR-CALDESC:Veranstaltungen für 
REFRESH-INTERVAL;VALUE=DURATION:PT1H
X-Robots-Tag:noindex
X-PUBLISHED-TTL:PT1H
BEGIN:VTIMEZONE
TZID:Europe/Berlin
BEGIN:DAYLIGHT
TZOFFSETFROM:+0100
TZOFFSETTO:+0200
TZNAME:CEST
DTSTART:20250330T010000
END:DAYLIGHT
BEGIN:STANDARD
TZOFFSETFROM:+0200
TZOFFSETTO:+0100
TZNAME:CET
DTSTART:20251026T010000
END:STANDARD
BEGIN:DAYLIGHT
TZOFFSETFROM:+0100
TZOFFSETTO:+0200
TZNAME:CEST
DTSTART:20260329T010000
END:DAYLIGHT
BEGIN:STANDARD
TZOFFSETFROM:+0200
TZOFFSETTO:+0100
TZNAME:CET
DTSTART:20261025T010000
END:STANDARD
BEGIN:DAYLIGHT
TZOFFSETFROM:+0100
TZOFFSETTO:+0200
TZNAME:CEST
DTSTART:20270328T010000
END:DAYLIGHT
BEGIN:STANDARD
TZOFFSETFROM:+0200
TZOFFSETTO:+0100
TZNAME:CET
DTSTART:20271031T010000
END:STANDARD
END:VTIMEZONE
BEGIN:VEVENT
DTSTART;TZID=Europe/Berlin:20260111T170000
DTEND;TZID=Europe/Berlin:20260111T230000
DTSTAMP:20260423T170709
CREATED:20251209T085404Z
LAST-MODIFIED:20260106T102532Z
UID:19856-1768150800-1768172400@ueberherrn.de
SUMMARY:Neujahrsempfang der Gemeinde Überherrn
DESCRIPTION:🎉 Neujahrsempfang der Gemeinde Überherrn 🎉\nDie Gemeinde Überherrn lädt herzlich zum Neujahrsempfang 2026 ein! \n📅 Sonntag\, 11. Januar 2026🕔 17:00 Uhr (Einlass bereits ab 16 Uhr)📍 Kulturhaus Überherrn\, Am Kulturhaus 2\, 66802 Überherrn \nFreuen Sie sich auf ein abwechslungsreiches Programm mit🎶 musikalischen Beiträgen🎭 künstlerischen Darbietungen📽️ einem Jahresrückblick🤝 Grußworten u. a. aus unseren Partnerkommunen L’Hôpital und Camaiore \n🎖️ Ehrengast:Jakob von Weizsäcker\, Minister der Finanzen und für Wissenschaft \nWir freuen uns darauf\, Sie in unserem festlich dekorierten Kulturhaus willkommen zu heißen! ✨
URL:https://ueberherrn.de/event/neujahrsempfang-der-gemeinde-ueberherrn-2/
LOCATION:Kulturhaus Überherrn\, Am Kulturhaus\, Überherrn\, 66802
END:VEVENT
END:VCALENDAR