BEGIN:VCALENDAR
VERSION:2.0
PRODID:-// - ECPv6.15.20//NONSGML v1.0//EN
CALSCALE:GREGORIAN
METHOD:PUBLISH
X-ORIGINAL-URL:https://ueberherrn.de
X-WR-CALDESC:Veranstaltungen für 
REFRESH-INTERVAL;VALUE=DURATION:PT1H
X-Robots-Tag:noindex
X-PUBLISHED-TTL:PT1H
BEGIN:VTIMEZONE
TZID:Europe/Berlin
BEGIN:DAYLIGHT
TZOFFSETFROM:+0100
TZOFFSETTO:+0200
TZNAME:CEST
DTSTART:20240331T010000
END:DAYLIGHT
BEGIN:STANDARD
TZOFFSETFROM:+0200
TZOFFSETTO:+0100
TZNAME:CET
DTSTART:20241027T010000
END:STANDARD
BEGIN:DAYLIGHT
TZOFFSETFROM:+0100
TZOFFSETTO:+0200
TZNAME:CEST
DTSTART:20250330T010000
END:DAYLIGHT
BEGIN:STANDARD
TZOFFSETFROM:+0200
TZOFFSETTO:+0100
TZNAME:CET
DTSTART:20251026T010000
END:STANDARD
BEGIN:DAYLIGHT
TZOFFSETFROM:+0100
TZOFFSETTO:+0200
TZNAME:CEST
DTSTART:20260329T010000
END:DAYLIGHT
BEGIN:STANDARD
TZOFFSETFROM:+0200
TZOFFSETTO:+0100
TZNAME:CET
DTSTART:20261025T010000
END:STANDARD
END:VTIMEZONE
BEGIN:VEVENT
DTSTART;TZID=Europe/Berlin:20251201T183000
DTEND;TZID=Europe/Berlin:20251224T183000
DTSTAMP:20260423T183919
CREATED:20251124T161640Z
LAST-MODIFIED:20251124T161640Z
UID:19739-1764613800-1766601000@ueberherrn.de
SUMMARY:Forweiler Adventstürchen 2025
DESCRIPTION:Ein Stück Weihnachtszauber in Altforweiler: die Forweiler Adventstürchen \nAuch in diesem Jahr lädt Altforweiler wieder zu den beliebten Forweiler Adventstürchen ein – einer besonderen Tradition\, die die Vorweihnachtszeit mit stimmungsvollen Treffen und gemeinschaftlichem Miteinander bereichert. Vom 1. bis 24. Dezember öffnen sich an wechselnden Abenden die Türen\, Höfe oder Garagen von Bewohnerinnen und Bewohnern und verwandeln den Ort in einen Ort voller Licht\, Wärme und festlicher Atmosphäre. \nJeweils von 18:30 bis 20:30 Uhr können Besucherinnen und Besucher bei glühendem Wein\, warmen Getränken und kleinen Snacks innehalten\, den Abend genießen und in gemütlicher Runde Adventsstimmung erleben. Jedes Türchen ist liebevoll dekoriert und lädt zum Bestaunen\, Plaudern und Genießen ein – und macht so die Vorfreude auf Weihnachten auf besondere Weise erlebbar. \nDie Forweiler Adventstürchen sind ein Treffpunkt für Jung und Alt\, für Nachbarinnen und Nachbarn\, für alle\, die die Adventszeit in Gemeinschaft genießen möchten. Das ist gelebte Nachbarschaft. Ein Spaziergang durch Altforweiler während der Adventszeit wird so zu einem stimmungsvollen Erlebnis voller Licht\, Freude und weihnachtlicher Begegnungen.
URL:https://ueberherrn.de/event/forweiler-adventstuerchen-2025/
LOCATION:Altforweiler
END:VEVENT
BEGIN:VEVENT
DTSTART;VALUE=DATE:20251206
DTEND;VALUE=DATE:20251208
DTSTAMP:20260423T183919
CREATED:20250206T111530Z
LAST-MODIFIED:20251124T161722Z
UID:18017-1764979200-1765151999@ueberherrn.de
SUMMARY:Weihnachtsmarkt im historischen Ortskern von Berus
DESCRIPTION:Am 6. und 7. Dezember 2025 lädt Berus zum traditionellen Weihnachtsmarkt in seinen historischen Ortskern ein – einem Ort mit charmanten\, alten Häusern und liebevoll geschmückten Gassen\, die dem Markt seinen besonders gemütlichen Charakter verleihen. \n Samstag\, 06.12.2025\nDer Weihnachtsmarkt öffnet ab 18 Uhr. Besucherinnen und Besucher können den Abend in stimmungsvoller Beleuchtung genießen\, während der Duft von Süßem\, Herzhaftem und winterlichen Getränken durch den Ortskern zieht. \n Sonntag\, 07.12.2025\nDer Adventssonntag beginnt um 10:30 Uhr mit einer Messe in der Kirche St. Martin. Direkt im Anschluss – ab ca. 11 Uhr – öffnet der Weihnachtsmarkt und lädt zum Flanieren und Verweilen ein.\nUm 15 Uhr sorgt der Nikolaus für besondere Momente\, vor allem bei den kleinen Gästen. \n \nGenuss & Angebote\nFür das leibliche Wohl sorgen die teilnehmenden Ortsvereine mit einer vielfältigen Auswahl an Speisen und Getränken\, darunter Kaffee\, Kuchen\, Crêpes\, Glühwein\, heißer Kakao\, heißer Aperol\, Glühbier\, Schwenker\, Rostwurst\, Dibbelabbes\, Pommes\, Waffeln und vieles mehr. \nZahlreiche Aussteller präsentieren Selbstgemachtes\, Handwerkskunst und kreative Geschenkideen\, sodass sich ein Bummel durch den Weihnachtsmarkt sowohl für Genießer als auch für Geschenkesuchende lohnt. \nDer Weihnachtsmarkt in Berus verbindet historische Kulisse\, Dorfgemeinschaft und weihnachtliche Atmosphäre zu einem besonderen Erlebnis\, das an beiden Tagen zum Genießen und Zusammenkommen einlädt.
URL:https://ueberherrn.de/event/weihnachtsmarkt-im-historischen-ortskern-von-berus/
LOCATION:Berus\, historischer Ortskern\, Überherrn\, 66802
END:VEVENT
END:VCALENDAR