BEGIN:VCALENDAR
VERSION:2.0
PRODID:-// - ECPv6.15.20//NONSGML v1.0//EN
CALSCALE:GREGORIAN
METHOD:PUBLISH
X-ORIGINAL-URL:https://ueberherrn.de
X-WR-CALDESC:Veranstaltungen für 
REFRESH-INTERVAL;VALUE=DURATION:PT1H
X-Robots-Tag:noindex
X-PUBLISHED-TTL:PT1H
BEGIN:VTIMEZONE
TZID:Europe/Berlin
BEGIN:DAYLIGHT
TZOFFSETFROM:+0100
TZOFFSETTO:+0200
TZNAME:CEST
DTSTART:20240331T010000
END:DAYLIGHT
BEGIN:STANDARD
TZOFFSETFROM:+0200
TZOFFSETTO:+0100
TZNAME:CET
DTSTART:20241027T010000
END:STANDARD
BEGIN:DAYLIGHT
TZOFFSETFROM:+0100
TZOFFSETTO:+0200
TZNAME:CEST
DTSTART:20250330T010000
END:DAYLIGHT
BEGIN:STANDARD
TZOFFSETFROM:+0200
TZOFFSETTO:+0100
TZNAME:CET
DTSTART:20251026T010000
END:STANDARD
BEGIN:DAYLIGHT
TZOFFSETFROM:+0100
TZOFFSETTO:+0200
TZNAME:CEST
DTSTART:20260329T010000
END:DAYLIGHT
BEGIN:STANDARD
TZOFFSETFROM:+0200
TZOFFSETTO:+0100
TZNAME:CET
DTSTART:20261025T010000
END:STANDARD
END:VTIMEZONE
BEGIN:VEVENT
DTSTART;VALUE=DATE:20251129
DTEND;VALUE=DATE:20251201
DTSTAMP:20260423T200632
CREATED:20250206T111413Z
LAST-MODIFIED:20251124T161325Z
UID:18013-1764374400-1764547199@ueberherrn.de
SUMMARY:Weihnachtszauber am Helmut-Bulle-Platz
DESCRIPTION:Adventliche Begegnungen unter funkelnden Lichtern\nWenn Kinderaugen strahlen\, der Duft von Zimtwaffeln\, heißem Kakao und Glühwein in der Luft liegt und weihnachtliche Klänge erklingen\, dann ist klar: Der Helmut-Bulle-Platz hat sich erstmals in ein liebevoll dekoriertes Winterdorf verwandelt. Am 29. und 30. November 2025 lädt die Gemeinde Überherrn erneut zum stimmungsvollen Weihnachtsmarkt ein – in diesem Jahr vollständig unter freiem Himmel auf dem festlich geschmückten Helmut-Bulle-Platz. \nRund um das Kulturhaus präsentieren regionale Händlerinnen und Händler ihre handgefertigten Produkte\, Geschenkideen und weihnachtlichen Besonderheiten. Für das leibliche Wohl ist selbstverständlich gesorgt: Von Glühwein\, heißem Kakao und ausgewählten Weinen über süße Leckereien wie frische Waffeln und Popcorn bis hin zu herzhaften Fleischspießen\, Rostwurst und hausgemachter Suppe findet hier jeder Geschmack seinen festlichen Genussmoment. \nHighlights an beiden Tagen:\n\n\nSamstag\, 29. November\, 18 Uhr: Der Nikolaus und ein Überraschungsgast besuchen den Weihnachtsmarkt und bringen den Kindern ihre zuvor abgegebenen\, liebevoll gefüllten Stiefel zurück. \n\n\nSonntag\, 30. November: \n\n\n14 Uhr: Kostenloses Puppentheater „Der Grinch“ im Kulturhaus \n\n\n15 Uhr: Der Grinch höchstpersönlich mischt sich unters Publikum und steht für einzigartige Fotos bereit. \n\n\n\n\nNeues Kinderprogramm 2025:\n\n\nSamstag: Holz-Essbrettchen lasern – personalisierte kleine Kunstwerke zum Mitnehmen \n\n\nSonntag: Kinderschminken für strahlende Gesichter \n\n\nAn beiden Tagen: Holz-Tannenbaum-Anhänger zum Anmalen – kreative Bastelzeit für große und kleine Künstlerinnen und Künstler \n\n\nDer Weihnachtszauber am Helmut-Bulle-Platz ist eine Einladung zum Stöbern\, Entdecken\, Genießen und Staunen – ein Ort\, an dem sich weihnachtliche Vorfreude und gemeinsames Miteinander auf besondere Weise vereinen. \nÖffnungszeiten:\n\n\nSamstag\, 29.11.2025: ab 17 Uhr \n\n\nSonntag\, 30.11.2025: ab 14 Uhr \n\n\nKommen Sie vorbei und erleben Sie ein unvergessliches Adventswochenende im Herzen von Überherrn.
URL:https://ueberherrn.de/event/weihnachtszauber-im-und-am-kulturhaus-3/
LOCATION:Kulturhaus Überherrn\, Am Kulturhaus\, Überherrn\, 66802
END:VEVENT
END:VCALENDAR