BEGIN:VCALENDAR
VERSION:2.0
PRODID:-// - ECPv6.15.20//NONSGML v1.0//EN
CALSCALE:GREGORIAN
METHOD:PUBLISH
X-ORIGINAL-URL:https://ueberherrn.de
X-WR-CALDESC:Veranstaltungen für 
REFRESH-INTERVAL;VALUE=DURATION:PT1H
X-Robots-Tag:noindex
X-PUBLISHED-TTL:PT1H
BEGIN:VTIMEZONE
TZID:Europe/Berlin
BEGIN:DAYLIGHT
TZOFFSETFROM:+0100
TZOFFSETTO:+0200
TZNAME:CEST
DTSTART:20240331T010000
END:DAYLIGHT
BEGIN:STANDARD
TZOFFSETFROM:+0200
TZOFFSETTO:+0100
TZNAME:CET
DTSTART:20241027T010000
END:STANDARD
BEGIN:DAYLIGHT
TZOFFSETFROM:+0100
TZOFFSETTO:+0200
TZNAME:CEST
DTSTART:20250330T010000
END:DAYLIGHT
BEGIN:STANDARD
TZOFFSETFROM:+0200
TZOFFSETTO:+0100
TZNAME:CET
DTSTART:20251026T010000
END:STANDARD
BEGIN:DAYLIGHT
TZOFFSETFROM:+0100
TZOFFSETTO:+0200
TZNAME:CEST
DTSTART:20260329T010000
END:DAYLIGHT
BEGIN:STANDARD
TZOFFSETFROM:+0200
TZOFFSETTO:+0100
TZNAME:CET
DTSTART:20261025T010000
END:STANDARD
END:VTIMEZONE
BEGIN:VEVENT
DTSTART;TZID=Europe/Berlin:20250927T190000
DTEND;TZID=Europe/Berlin:20250927T223000
DTSTAMP:20260425T134648
CREATED:20250605T074930Z
LAST-MODIFIED:20250901T072238Z
UID:19026-1758999600-1759012200@ueberherrn.de
SUMMARY:Gospel meets Opera | Rock\, Pop & das Hohe C
DESCRIPTION:Der Sender Europe 1 wird zum Schauplatz eines außergewöhnlichen musikalischen Events: „Gospel meets Opera – Rock\, Pop und das Hohe C“. \nUnter der künstlerischen Leitung der Gospelqueen Yasmin Reese – die deutsche Presse nennt sie auch „die deutsche Tina Turner“ – in Kombination mit dem Tenor Alexander Herzog – ein Star der 12 Tenors – erwartet die Besucher ein mitreißendes Programm\, dass die Grenzen zwischen Gospel\, Oper und modernen Musikrichtungen sprengt. Die Vorfreude auf das Event wird durch die durchweg positive Resonanz des letzten Konzerts in Altötting noch verstärkt. Ein begeisterter Zuschauer brachte es auf den Punkt: „Es war ein atemberaubendes Erlebnis\, das alle meine Erwartungen übertroffen hat.“ Yasmin Reese selbst sagt: „Die Kraft\, die mich mit Herz und Seele singen lässt\, führt mich seit meiner Kindheit. Meine Stimme ist das\, was Gott mir gab. Ein Geschenk\, das ich gerne mit meinem Publikum teilen möchte.“ \nKommen Sie und lassen Sie sich entführen in die faszinierende Welt von „Gospel meets Opera“. Es erwartet Sie ein Abend voller Überraschungen\, der die Seele berührt und zum Träumen anregt. \nERSATZTERMIN: Samstag\, 27. September 2025 \nEinlass: 19.00 Uhr \nTickets: € 21\,- | ermäßigt € 18\,75 \nerhältlich im Kulturamt des Rathauses oder online unter Ticket Regional: Gospel meets Opera – Rock\, Pop & das Hohe C – Überherrn\, Sendehalle\, Europe 1
URL:https://ueberherrn.de/event/gospel-meets-opera-rock-pop-das-hohe-c/
LOCATION:Sendehalle „Europe 1“\, Ittersdorfer Straße\, Berus\, Saarland\, 66802\, Deutschland
ORGANIZER;CN="Kulturamt %C3%9Cberherrn":MAILTO:kultur@ueberherrn.de
END:VEVENT
END:VCALENDAR