BEGIN:VCALENDAR
VERSION:2.0
PRODID:-// - ECPv6.15.20//NONSGML v1.0//EN
CALSCALE:GREGORIAN
METHOD:PUBLISH
X-ORIGINAL-URL:https://ueberherrn.de
X-WR-CALDESC:Veranstaltungen für 
REFRESH-INTERVAL;VALUE=DURATION:PT1H
X-Robots-Tag:noindex
X-PUBLISHED-TTL:PT1H
BEGIN:VTIMEZONE
TZID:Europe/Berlin
BEGIN:DAYLIGHT
TZOFFSETFROM:+0100
TZOFFSETTO:+0200
TZNAME:CEST
DTSTART:20240331T010000
END:DAYLIGHT
BEGIN:STANDARD
TZOFFSETFROM:+0200
TZOFFSETTO:+0100
TZNAME:CET
DTSTART:20241027T010000
END:STANDARD
BEGIN:DAYLIGHT
TZOFFSETFROM:+0100
TZOFFSETTO:+0200
TZNAME:CEST
DTSTART:20250330T010000
END:DAYLIGHT
BEGIN:STANDARD
TZOFFSETFROM:+0200
TZOFFSETTO:+0100
TZNAME:CET
DTSTART:20251026T010000
END:STANDARD
BEGIN:DAYLIGHT
TZOFFSETFROM:+0100
TZOFFSETTO:+0200
TZNAME:CEST
DTSTART:20260329T010000
END:DAYLIGHT
BEGIN:STANDARD
TZOFFSETFROM:+0200
TZOFFSETTO:+0100
TZNAME:CET
DTSTART:20261025T010000
END:STANDARD
END:VTIMEZONE
BEGIN:VEVENT
DTSTART;VALUE=DATE:20250912
DTEND;VALUE=DATE:20250915
DTSTAMP:20260425T134505
CREATED:20250729T143200Z
LAST-MODIFIED:20250729T143200Z
UID:19257-1757635200-1757894399@ueberherrn.de
SUMMARY:Jubiläumsfest: ‚25 Jahre Partnerschaft Altforweiler – Ailly-sur-Noye‘
DESCRIPTION:Datum\nUhrzeit\nVeranstaltung\nVeranstaltungsort\nVeranstalter\n\n\n12. Sept.  – \n14. Sept.\n \n‚25 Jahre Partnerschaft Altforweiler-Ailly‘ \nSchirmherrin: Ministerpräsidentin Anke Rehlinger\n \nArbeitsgemeinschaft Altforweiler – Ailly im Förderkreis Partnerschaft Überherrn e.V.\n\n\nSa. 13. Sept.\n17.00 Uhr \n \n‚25 Jahre Partnerschaft Altforweiler-Ailly‘ \nBunter Abend gestaltet von den Freunden der Partnerschaft Überherrn\, Ailly\, L’Hôpital \nVerleihung von 2 Europamedaillen\nKulturhaus Überherrn \n \nArbeitsgemeinschaft Altforweiler – Ailly im Förderkreis Partnerschaft Überherrn e.V. \nEuropa-Denkmal-Verein\n\n\nSo. 14. Sept.\n10.30 Uhr\nFriedensgottesdienst zum Jubiläum ‚ 25 Jahre Partnerschaft Altforweiler-Ailly‘\nAltforweiler St. Matthias\n 
URL:https://ueberherrn.de/event/jubilaeumsfest-25-jahre-partnerschaft-altforweiler-ailly-sur-noye/
LOCATION:Gesamtgemeinde\, Saarland\, 66802\, Deutschland
END:VEVENT
BEGIN:VEVENT
DTSTART;VALUE=DATE:20250914
DTEND;VALUE=DATE:20250915
DTSTAMP:20260425T134505
CREATED:20250206T105330Z
LAST-MODIFIED:20250206T105330Z
UID:17995-1757808000-1757894399@ueberherrn.de
SUMMARY:Tag des offenen Denkmals
DESCRIPTION:
URL:https://ueberherrn.de/event/tag-des-offenen-denkmals-3/
END:VEVENT
END:VCALENDAR