BEGIN:VCALENDAR
VERSION:2.0
PRODID:-// - ECPv6.15.20//NONSGML v1.0//EN
CALSCALE:GREGORIAN
METHOD:PUBLISH
X-ORIGINAL-URL:https://ueberherrn.de
X-WR-CALDESC:Veranstaltungen für 
REFRESH-INTERVAL;VALUE=DURATION:PT1H
X-Robots-Tag:noindex
X-PUBLISHED-TTL:PT1H
BEGIN:VTIMEZONE
TZID:Europe/Berlin
BEGIN:DAYLIGHT
TZOFFSETFROM:+0100
TZOFFSETTO:+0200
TZNAME:CEST
DTSTART:20240331T010000
END:DAYLIGHT
BEGIN:STANDARD
TZOFFSETFROM:+0200
TZOFFSETTO:+0100
TZNAME:CET
DTSTART:20241027T010000
END:STANDARD
BEGIN:DAYLIGHT
TZOFFSETFROM:+0100
TZOFFSETTO:+0200
TZNAME:CEST
DTSTART:20250330T010000
END:DAYLIGHT
BEGIN:STANDARD
TZOFFSETFROM:+0200
TZOFFSETTO:+0100
TZNAME:CET
DTSTART:20251026T010000
END:STANDARD
BEGIN:DAYLIGHT
TZOFFSETFROM:+0100
TZOFFSETTO:+0200
TZNAME:CEST
DTSTART:20260329T010000
END:DAYLIGHT
BEGIN:STANDARD
TZOFFSETFROM:+0200
TZOFFSETTO:+0100
TZNAME:CET
DTSTART:20261025T010000
END:STANDARD
END:VTIMEZONE
BEGIN:VEVENT
DTSTART;TZID=Europe/Berlin:20250903T100000
DTEND;TZID=Europe/Berlin:20250903T120000
DTSTAMP:20260425T134653
CREATED:20250902T081320Z
LAST-MODIFIED:20250902T081320Z
UID:19380-1756893600-1756900800@ueberherrn.de
SUMMARY:Tai Chi ! neuer Veranstaltungsort
DESCRIPTION:Tai Chi am 03. September 2025 \n  \n\nDie Gemeinde Überherrn und die Tai-Chi Freunde Überherrn laden im Rahmen der Aktion „Überherrn lebt gesund!“ und in Zusammenarbeit mit »Das Saarland lebt gesund!« zu einem kostenlosen Tai Chi Kurs ein. \n  \nWieso Tai Chi \nHaben Sie gewusst\, dass Tai Chi sogar besser sein kann als Ausdauertraining? \nForschungen haben gezeigt\, dass Tai Chi auf lange Sicht den Blutdruck stärker reduziert als Ausdauertraining und darüber hinaus zu einem geringeren Ruhepuls führt. \nWeitere positive Effekte auf Körper und Geist sind z.B. \n\nErhöhung der Körperwahrnehmung und Korrektur von Haltungsfehlern\nEntspannung der Muskulatur durch die weiche und geschmeidige Durchführung der Tai-Chi-Übungen\nStärkung der Rückenmuskulatur und Entlastung der Wirbelsäule\nPositive Auswirkung auf den Kreislauf dank der geübten tiefen Bauchatmung\nBeruhigung des Nervensystems\nMentale Entspannung und Stressbewältigung\nSturzprävention und bessere Standsicherheit\n\nEs gibt also genügend Gründe\, sich mit dieser besonderen fernöstlichen Sportart vertraut zu machen. Daher sind alle Interessierten Bürgerinnen und Bürger herzlich eingeladen am \n  \n\n September von 10 – 12 Uhr im Haus Bergfried in Berus \n\n  \nvorbei zu schauen und mitzumachen. Die Teilnahme ist kostenlos. \n(Bei Regenwetter muss die Veranstaltung im Freien leider abgesagt werden) \n  \nWer sind die Tai-Chi Freunde Überherrn? \nAm 1. Dezember 2008 wurde die Gruppe Tai-Chi Freunde Überherrn ins Leben gerufen. \nSeit diesem Zeitpunkt praktizieren sie (mit einigen Unterbrechungen wie z.B. während der Corona Zeit)\, die Ruhe\, wobei das Bewusstsein hochgradig konzentriert ist. Es ist die innere Seelenruhe. \nDie Leichtigkeit ist dem Ying & Yang gleich. Die Ausdauer zeichnet sich dadurch aus\, dass man stets übt\, unabhängig von Hitze oder Kälte. \nZur Information: Allgemeine Trainingszeiten sind immer Mittwoch vormittags 10 – 11 Uhr im Haus Bergfried Berus \n 
URL:https://ueberherrn.de/event/tai-chi-neuer-veranstaltungsort/
LOCATION:Haus Bergfried Berus\, An der Port\, Berus\, 66802
ORGANIZER;CN="Kulturamt %C3%9Cberherrn":MAILTO:kultur@ueberherrn.de
END:VEVENT
END:VCALENDAR