BEGIN:VCALENDAR
VERSION:2.0
PRODID:-// - ECPv6.15.20//NONSGML v1.0//EN
CALSCALE:GREGORIAN
METHOD:PUBLISH
X-ORIGINAL-URL:https://ueberherrn.de
X-WR-CALDESC:Veranstaltungen für 
REFRESH-INTERVAL;VALUE=DURATION:PT1H
X-Robots-Tag:noindex
X-PUBLISHED-TTL:PT1H
BEGIN:VTIMEZONE
TZID:Europe/Berlin
BEGIN:DAYLIGHT
TZOFFSETFROM:+0100
TZOFFSETTO:+0200
TZNAME:CEST
DTSTART:20240331T010000
END:DAYLIGHT
BEGIN:STANDARD
TZOFFSETFROM:+0200
TZOFFSETTO:+0100
TZNAME:CET
DTSTART:20241027T010000
END:STANDARD
BEGIN:DAYLIGHT
TZOFFSETFROM:+0100
TZOFFSETTO:+0200
TZNAME:CEST
DTSTART:20250330T010000
END:DAYLIGHT
BEGIN:STANDARD
TZOFFSETFROM:+0200
TZOFFSETTO:+0100
TZNAME:CET
DTSTART:20251026T010000
END:STANDARD
BEGIN:DAYLIGHT
TZOFFSETFROM:+0100
TZOFFSETTO:+0200
TZNAME:CEST
DTSTART:20260329T010000
END:DAYLIGHT
BEGIN:STANDARD
TZOFFSETFROM:+0200
TZOFFSETTO:+0100
TZNAME:CET
DTSTART:20261025T010000
END:STANDARD
END:VTIMEZONE
BEGIN:VEVENT
DTSTART;TZID=Europe/Berlin:20250627T183000
DTEND;TZID=Europe/Berlin:20250627T213000
DTSTAMP:20260425T214743
CREATED:20250605T074343Z
LAST-MODIFIED:20250605T074343Z
UID:19022-1751049000-1751059800@ueberherrn.de
SUMMARY:Gospel Chor Saarbrücken | "Die geheime Botschaft der Gospels"
DESCRIPTION:Nach 2 Jahren baubedingter Pause\, geht der Sender Europe 1 nun endlich wieder in die nächste Spielzeit! \nDen Start macht das Konzert des Gospel Chors Saarbrücken\, der die Entstehung der Gospelbewegung in Zeiten der Sklaverei und für die damaligen Bürgerrechtsbewegung in den USA seinem Publikum näher bringen möchte. \nDie religiösen Lieder\, die den versklavten Mut und Hoffnung machten\, enthielten oft versteckte Botschaften\, die der Fluchthilfe dienten. Mit Songs wie „Go down Moses“ bis zu Amanda Gormans berühmtem Gedicht „The Hill We Climb“…kommen Sie zu einem bunten\, klangvollen Abend mit einer wichtigen Botschaft! \nEinlass: 18.30 Uhr \nTickets: € 15\,- | ermäßigt € 12\,- \nim Kulturamt des Rathauses oder online unter Ticket Regional: Gospel Chor Saarbrücken – Die geheime Botschaft der Gospels – Überherrn\, Sendehalle\, Europe 1
URL:https://ueberherrn.de/event/gospel-chor-saarbruecken-die-geheime-botschaft-der-gospels/
LOCATION:Sendehalle „Europe 1“\, Ittersdorfer Straße\, Berus\, Saarland\, 66802\, Deutschland
ORGANIZER;CN="Kulturamt %C3%9Cberherrn":MAILTO:kultur@ueberherrn.de
END:VEVENT
END:VCALENDAR